BEGIN:VCALENDAR
VERSION:2.0
PRODID:-//wp-events-plugin.com//7.2.1//EN
TZID:Europe/Stockholm
X-WR-TIMEZONE:Europe/Stockholm
BEGIN:VEVENT
UID:14@agestagk.se
DTSTART;TZID=Europe/Stockholm:20250405T090000
DTEND;TZID=Europe/Stockholm:20250405T123000
DTSTAMP:20250319T155009Z
URL:https://agestagk.se/events/staddag-lordag-5-april-0900-1200/
SUMMARY:Städdag lördag 5 april 09:00-12:00!
DESCRIPTION:Lördag 5 april är det städdag på klubben och då samlas vi 
 för att trivas och göra fint på banorna och runt klubbhuset.\n\nSamling
  09:00 vid klubbhuset för indelning av arbetsområden. Vi kör runt med f
 ika på förmiddagen och sedan bjuder Krögare Shimal på hamburgare och k
 orv vid 12-tiden.\n\nTa på oömma kläder och ta gärna med kratta och en
  vattenflaska.\n\nOBS: Anmälan till info@agestagk.se med namn och golf-
 id så att vi kan beräkna fika och mat.\n\nVarmt välkomna!\n\nMvh/Åges
 ta GK
ATTACH;FMTTYPE=image/jpeg:https://agestagk.se/wp-content/uploads/2025/03/S
 taddag-2023.-3-scaled.jpg
END:VEVENT
BEGIN:VTIMEZONE
TZID:Europe/Stockholm
X-LIC-LOCATION:Europe/Stockholm
BEGIN:DAYLIGHT
DTSTART:20250330T030000
TZOFFSETFROM:+0100
TZOFFSETTO:+0200
TZNAME:CEST
END:DAYLIGHT
END:VTIMEZONE
END:VCALENDAR