BEGIN:VCALENDAR
VERSION:2.0
PRODID:-//wp-events-plugin.com//7.2.1//EN
TZID:Europe/Stockholm
X-WR-TIMEZONE:Europe/Stockholm
BEGIN:VEVENT
UID:6@agestagk.se
DTSTART:20241209T183000Z
DTEND:20241209T203000Z
DTSTAMP:20241212T150223Z
URL:https://agestagk.se/events/hostmote-i-agesta-golfklubb-1830/
SUMMARY:Höstmöte i Ågesta Golfklubb 18:30!
DESCRIPTION:Kallelse till Höstmöte i Ågesta Golfklubb
ATTACH;FMTTYPE=image/jpeg:https://agestagk.se/wp-content/uploads/2024/12/D
 JI_0974-scaled.jpg
END:VEVENT
END:VCALENDAR