BEGIN:VCALENDAR
VERSION:2.0
PRODID:-//wp-events-plugin.com//7.2.1//EN
TZID:Europe/Stockholm
X-WR-TIMEZONE:Europe/Stockholm
BEGIN:VEVENT
UID:10@agestagk.se
DTSTART;TZID=Europe/Stockholm;VALUE=DATE:20241231
DTEND;TZID=Europe/Stockholm;VALUE=DATE:20250102
DTSTAMP:20250103T095517Z
URL:https://agestagk.se/events/gott-nytt-ar-onskar-agesta-gk/
SUMMARY:Gott Nytt År önskar Ågesta GK!
DESCRIPTION:Gott Nytt År önskar Ågesta GK!
ATTACH;FMTTYPE=image/jpeg:https://agestagk.se/wp-content/uploads/2024/12/V
 interbild-Uppfart-Parkering.jpg
END:VEVENT
BEGIN:VTIMEZONE
TZID:Europe/Stockholm
X-LIC-LOCATION:Europe/Stockholm
BEGIN:STANDARD
DTSTART:20241027T020000
TZOFFSETFROM:+0200
TZOFFSETTO:+0100
TZNAME:CET
END:STANDARD
END:VTIMEZONE
END:VCALENDAR