BEGIN:VCALENDAR
VERSION:2.0
PRODID:-//wp-events-plugin.com//7.2.1//EN
TZID:Europe/Stockholm
X-WR-TIMEZONE:Europe/Stockholm
BEGIN:VEVENT
UID:9@agestagk.se
DTSTART;TZID=Europe/Stockholm;VALUE=DATE:20250107
DTEND;TZID=Europe/Stockholm;VALUE=DATE:20250108
DTSTAMP:20250103T095237Z
URL:https://agestagk.se/events/god-fortsattning-pa-det-nya-golfaret/
SUMMARY:God fortsättning på det nya golfåret!
DESCRIPTION:God fortsättning på det nya golfåret!\n\nMvh/Ågesta GK
ATTACH;FMTTYPE=image/jpeg:https://agestagk.se/wp-content/uploads/2024/12/D
 JI_0519-1-scaled.jpg
END:VEVENT
BEGIN:VTIMEZONE
TZID:Europe/Stockholm
X-LIC-LOCATION:Europe/Stockholm
BEGIN:STANDARD
DTSTART:20241027T020000
TZOFFSETFROM:+0200
TZOFFSETTO:+0100
TZNAME:CET
END:STANDARD
END:VTIMEZONE
END:VCALENDAR